BEGIN:VCALENDAR
VERSION:2.0
PRODID:-//Ligonier Country Club - ECPv6.15.20//NONSGML v1.0//EN
CALSCALE:GREGORIAN
METHOD:PUBLISH
X-ORIGINAL-URL:https://ligoniercountryclub.com
X-WR-CALDESC:Events for Ligonier Country Club
REFRESH-INTERVAL;VALUE=DURATION:PT1H
X-Robots-Tag:noindex
X-PUBLISHED-TTL:PT1H
BEGIN:VTIMEZONE
TZID:America/New_York
BEGIN:DAYLIGHT
TZOFFSETFROM:-0500
TZOFFSETTO:-0400
TZNAME:EDT
DTSTART:20250309T070000
END:DAYLIGHT
BEGIN:STANDARD
TZOFFSETFROM:-0400
TZOFFSETTO:-0500
TZNAME:EST
DTSTART:20251102T060000
END:STANDARD
BEGIN:DAYLIGHT
TZOFFSETFROM:-0500
TZOFFSETTO:-0400
TZNAME:EDT
DTSTART:20260308T070000
END:DAYLIGHT
BEGIN:STANDARD
TZOFFSETFROM:-0400
TZOFFSETTO:-0500
TZNAME:EST
DTSTART:20261101T060000
END:STANDARD
BEGIN:DAYLIGHT
TZOFFSETFROM:-0500
TZOFFSETTO:-0400
TZNAME:EDT
DTSTART:20270314T070000
END:DAYLIGHT
BEGIN:STANDARD
TZOFFSETFROM:-0400
TZOFFSETTO:-0500
TZNAME:EST
DTSTART:20271107T060000
END:STANDARD
END:VTIMEZONE
BEGIN:VEVENT
DTSTART;TZID=America/New_York:20260929T100000
DTEND;TZID=America/New_York:20260929T140000
DTSTAMP:20260420T203553
CREATED:20260420T173927Z
LAST-MODIFIED:20260420T173927Z
UID:7446-1790676000-1790690400@ligoniercountryclub.com
SUMMARY:Ladies Closing Day
DESCRIPTION:
URL:https://ligoniercountryclub.com/event/ladies-closing-day-5/
CATEGORIES:Ladies' Event
END:VEVENT
BEGIN:VEVENT
DTSTART;TZID=America/New_York:20260929T113000
DTEND;TZID=America/New_York:20260929T200000
DTSTAMP:20260420T203553
CREATED:20260204T204301Z
LAST-MODIFIED:20260204T204301Z
UID:6553-1790681400-1790712000@ligoniercountryclub.com
SUMMARY:Kitchen Hours
DESCRIPTION:Members and Guests
URL:https://ligoniercountryclub.com/event/kitchen-hours-415/
END:VEVENT
BEGIN:VEVENT
DTSTART;TZID=America/New_York:20260930T113000
DTEND;TZID=America/New_York:20260930T200000
DTSTAMP:20260420T203553
CREATED:20260204T204302Z
LAST-MODIFIED:20260204T204302Z
UID:6554-1790767800-1790798400@ligoniercountryclub.com
SUMMARY:Kitchen Hours
DESCRIPTION:Members and Guests
URL:https://ligoniercountryclub.com/event/kitchen-hours-416/
END:VEVENT
BEGIN:VEVENT
DTSTART;TZID=America/New_York:20260930T190000
DTEND;TZID=America/New_York:20260930T191500
DTSTAMP:20260420T203553
CREATED:20260204T204302Z
LAST-MODIFIED:20260204T204302Z
UID:6555-1790794800-1790795700@ligoniercountryclub.com
SUMMARY:Centennial Drawing
DESCRIPTION:Members
URL:https://ligoniercountryclub.com/event/centennial-drawing-64/
END:VEVENT
BEGIN:VEVENT
DTSTART;TZID=America/New_York:20261001T113000
DTEND;TZID=America/New_York:20261001T200000
DTSTAMP:20260420T203553
CREATED:20260204T204302Z
LAST-MODIFIED:20260204T204302Z
UID:6556-1790854200-1790884800@ligoniercountryclub.com
SUMMARY:Kitchen Hours
DESCRIPTION:Members and Guests
URL:https://ligoniercountryclub.com/event/kitchen-hours-417/
END:VEVENT
BEGIN:VEVENT
DTSTART;TZID=America/New_York:20261001T170000
DTEND;TZID=America/New_York:20261001T200000
DTSTAMP:20260420T203553
CREATED:20260126T191940Z
LAST-MODIFIED:20260317T171535Z
UID:6089-1790874000-1790884800@ligoniercountryclub.com
SUMMARY:BPW
DESCRIPTION:Members and Guests
URL:https://ligoniercountryclub.com/event/bpw-29/
CATEGORIES:Private Event
END:VEVENT
BEGIN:VEVENT
DTSTART;TZID=America/New_York:20261002T080000
DTEND;TZID=America/New_York:20261002T160000
DTSTAMP:20260420T203553
CREATED:20260126T193408Z
LAST-MODIFIED:20260420T174407Z
UID:6224-1790928000-1790956800@ligoniercountryclub.com
SUMMARY:Scott Electric Golf Outing
DESCRIPTION:
URL:https://ligoniercountryclub.com/event/scott-electric-golf-outing-3/
CATEGORIES:Golf Outing
END:VEVENT
BEGIN:VEVENT
DTSTART;TZID=America/New_York:20261002T100000
DTEND;TZID=America/New_York:20261002T140000
DTSTAMP:20260420T203553
CREATED:20260420T174432Z
LAST-MODIFIED:20260420T174432Z
UID:7453-1790935200-1790949600@ligoniercountryclub.com
SUMMARY:Shotgun
DESCRIPTION:
URL:https://ligoniercountryclub.com/event/shotgun-96/
CATEGORIES:Course
END:VEVENT
BEGIN:VEVENT
DTSTART;TZID=America/New_York:20261002T113000
DTEND;TZID=America/New_York:20261002T203000
DTSTAMP:20260420T203553
CREATED:20260204T204302Z
LAST-MODIFIED:20260204T204302Z
UID:6557-1790940600-1790973000@ligoniercountryclub.com
SUMMARY:Kitchen Hours
DESCRIPTION:Members and Guests
URL:https://ligoniercountryclub.com/event/kitchen-hours-418/
END:VEVENT
BEGIN:VEVENT
DTSTART;TZID=America/New_York:20261003T090000
DTEND;TZID=America/New_York:20261003T170000
DTSTAMP:20260420T203553
CREATED:20260126T193408Z
LAST-MODIFIED:20260420T174326Z
UID:6223-1791018000-1791046800@ligoniercountryclub.com
SUMMARY:Member Guest
DESCRIPTION:
URL:https://ligoniercountryclub.com/event/member-guest-3/
CATEGORIES:Club Event
END:VEVENT
BEGIN:VEVENT
DTSTART;TZID=America/New_York:20261003T113000
DTEND;TZID=America/New_York:20261003T203000
DTSTAMP:20260420T203553
CREATED:20260204T204302Z
LAST-MODIFIED:20260204T204302Z
UID:6558-1791027000-1791059400@ligoniercountryclub.com
SUMMARY:Kitchen Hours
DESCRIPTION:Members and Guests
URL:https://ligoniercountryclub.com/event/kitchen-hours-419/
END:VEVENT
BEGIN:VEVENT
DTSTART;TZID=America/New_York:20261003T170000
DTEND;TZID=America/New_York:20261003T200000
DTSTAMP:20260420T203553
CREATED:20260126T192110Z
LAST-MODIFIED:20260126T193308Z
UID:6125-1791046800-1791057600@ligoniercountryclub.com
SUMMARY:Laura Rullo Performs
DESCRIPTION:
URL:https://ligoniercountryclub.com/event/laura-rullo-performs-4/
CATEGORIES:Entertainment
END:VEVENT
BEGIN:VEVENT
DTSTART;TZID=America/New_York:20261004T093000
DTEND;TZID=America/New_York:20261004T150000
DTSTAMP:20260420T203553
CREATED:20260204T204311Z
LAST-MODIFIED:20260204T204311Z
UID:6559-1791106200-1791126000@ligoniercountryclub.com
SUMMARY:Kitchen Hours- Brunch Only
DESCRIPTION:Members and Guests
URL:https://ligoniercountryclub.com/event/kitchen-hours-brunch-only-82/
END:VEVENT
BEGIN:VEVENT
DTSTART;VALUE=DATE:20261005
DTEND;VALUE=DATE:20261006
DTSTAMP:20260420T203553
CREATED:20260204T204311Z
LAST-MODIFIED:20260420T144444Z
UID:6560-1791158400-1791244799@ligoniercountryclub.com
SUMMARY:Clubhouse Closed
DESCRIPTION:Members and Guests
URL:https://ligoniercountryclub.com/event/closed-132/
END:VEVENT
BEGIN:VEVENT
DTSTART;TZID=America/New_York:20261005T073000
DTEND;TZID=America/New_York:20261005T170000
DTSTAMP:20260420T203553
CREATED:20260126T193408Z
LAST-MODIFIED:20260420T224848Z
UID:6222-1791185400-1791219600@ligoniercountryclub.com
SUMMARY:Ligonier Camp and Conference
DESCRIPTION:
URL:https://ligoniercountryclub.com/event/ligonier-camp-and-conference-3/
CATEGORIES:Golf Outing
END:VEVENT
BEGIN:VEVENT
DTSTART;TZID=America/New_York:20261005T093000
DTEND;TZID=America/New_York:20261005T150000
DTSTAMP:20260420T203553
CREATED:20260420T224923Z
LAST-MODIFIED:20260420T224923Z
UID:7463-1791192600-1791212400@ligoniercountryclub.com
SUMMARY:Shotgun
DESCRIPTION:
URL:https://ligoniercountryclub.com/event/shotgun-97/
CATEGORIES:Course
END:VEVENT
BEGIN:VEVENT
DTSTART;TZID=America/New_York:20261006T070000
DTEND;TZID=America/New_York:20261006T150000
DTSTAMP:20260420T203553
CREATED:20260317T162616Z
LAST-MODIFIED:20260420T174636Z
UID:6904-1791270000-1791298800@ligoniercountryclub.com
SUMMARY:Ladies Chapman
DESCRIPTION:Members and Guests
URL:https://ligoniercountryclub.com/event/ladies-chapman/
CATEGORIES:Ladies' Event
END:VEVENT
BEGIN:VEVENT
DTSTART;TZID=America/New_York:20261006T113000
DTEND;TZID=America/New_York:20261006T200000
DTSTAMP:20260420T203553
CREATED:20260204T204311Z
LAST-MODIFIED:20260204T204311Z
UID:6561-1791286200-1791316800@ligoniercountryclub.com
SUMMARY:Kitchen Hours
DESCRIPTION:Members and Guests
URL:https://ligoniercountryclub.com/event/kitchen-hours-420/
END:VEVENT
BEGIN:VEVENT
DTSTART;TZID=America/New_York:20261007T113000
DTEND;TZID=America/New_York:20261007T200000
DTSTAMP:20260420T203553
CREATED:20260204T204311Z
LAST-MODIFIED:20260204T204311Z
UID:6562-1791372600-1791403200@ligoniercountryclub.com
SUMMARY:Kitchen Hours
DESCRIPTION:Members and Guests
URL:https://ligoniercountryclub.com/event/kitchen-hours-421/
END:VEVENT
BEGIN:VEVENT
DTSTART;TZID=America/New_York:20261007T190000
DTEND;TZID=America/New_York:20261007T191500
DTSTAMP:20260420T203553
CREATED:20260204T204311Z
LAST-MODIFIED:20260204T204311Z
UID:6563-1791399600-1791400500@ligoniercountryclub.com
SUMMARY:Centennial Drawing
DESCRIPTION:Members
URL:https://ligoniercountryclub.com/event/centennial-drawing-65/
END:VEVENT
BEGIN:VEVENT
DTSTART;TZID=America/New_York:20261008T100000
DTEND;TZID=America/New_York:20261008T140000
DTSTAMP:20260420T203553
CREATED:20260317T162346Z
LAST-MODIFIED:20260317T162346Z
UID:6858-1791453600-1791468000@ligoniercountryclub.com
SUMMARY:Glengary Exchange
DESCRIPTION:
URL:https://ligoniercountryclub.com/event/glengary-exchange/
CATEGORIES:Exchange Day
END:VEVENT
BEGIN:VEVENT
DTSTART;TZID=America/New_York:20261008T113000
DTEND;TZID=America/New_York:20261008T200000
DTSTAMP:20260420T203553
CREATED:20260204T204324Z
LAST-MODIFIED:20260204T204324Z
UID:6564-1791459000-1791489600@ligoniercountryclub.com
SUMMARY:Kitchen Hours
DESCRIPTION:Members and Guests
URL:https://ligoniercountryclub.com/event/kitchen-hours-422/
END:VEVENT
BEGIN:VEVENT
DTSTART;VALUE=DATE:20261009
DTEND;VALUE=DATE:20261010
DTSTAMP:20260420T203553
CREATED:20260420T224531Z
LAST-MODIFIED:20260420T224531Z
UID:7455-1791504000-1791590399@ligoniercountryclub.com
SUMMARY:Fort Ligonier Days
DESCRIPTION:
URL:https://ligoniercountryclub.com/event/fort-ligonier-days-3/
CATEGORIES:Holiday
END:VEVENT
BEGIN:VEVENT
DTSTART;TZID=America/New_York:20261009T080000
DTEND;TZID=America/New_York:20261009T160000
DTSTAMP:20260420T203553
CREATED:20260126T193408Z
LAST-MODIFIED:20260420T224725Z
UID:6221-1791532800-1791561600@ligoniercountryclub.com
SUMMARY:WPGA Play Day (Men)
DESCRIPTION:
URL:https://ligoniercountryclub.com/event/wpga-play-day-men/
CATEGORIES:Golf Outing
END:VEVENT
BEGIN:VEVENT
DTSTART;TZID=America/New_York:20261009T113000
DTEND;TZID=America/New_York:20261009T203000
DTSTAMP:20260420T203553
CREATED:20260204T204325Z
LAST-MODIFIED:20260204T204325Z
UID:6565-1791545400-1791577800@ligoniercountryclub.com
SUMMARY:Kitchen Hours
DESCRIPTION:Members and Guests
URL:https://ligoniercountryclub.com/event/kitchen-hours-423/
END:VEVENT
BEGIN:VEVENT
DTSTART;VALUE=DATE:20261010
DTEND;VALUE=DATE:20261011
DTSTAMP:20260420T203553
CREATED:20260420T224550Z
LAST-MODIFIED:20260420T224550Z
UID:7457-1791590400-1791676799@ligoniercountryclub.com
SUMMARY:Fort Ligonier Days
DESCRIPTION:
URL:https://ligoniercountryclub.com/event/fort-ligonier-days-4/
CATEGORIES:Holiday
END:VEVENT
BEGIN:VEVENT
DTSTART;TZID=America/New_York:20261010T113000
DTEND;TZID=America/New_York:20261010T203000
DTSTAMP:20260420T203553
CREATED:20260204T204325Z
LAST-MODIFIED:20260204T204325Z
UID:6566-1791631800-1791664200@ligoniercountryclub.com
SUMMARY:Kitchen Hours
DESCRIPTION:Members and Guests
URL:https://ligoniercountryclub.com/event/kitchen-hours-424/
END:VEVENT
BEGIN:VEVENT
DTSTART;TZID=America/New_York:20261010T130000
DTEND;TZID=America/New_York:20261010T220000
DTSTAMP:20260420T203553
CREATED:20260126T191557Z
LAST-MODIFIED:20260317T171520Z
UID:6049-1791637200-1791669600@ligoniercountryclub.com
SUMMARY:Essig Wedding
DESCRIPTION:Members and Guests
URL:https://ligoniercountryclub.com/event/essig-wedding/
CATEGORIES:Private Event
END:VEVENT
BEGIN:VEVENT
DTSTART;VALUE=DATE:20261011
DTEND;VALUE=DATE:20261012
DTSTAMP:20260420T203553
CREATED:20260420T224611Z
LAST-MODIFIED:20260420T224611Z
UID:7459-1791676800-1791763199@ligoniercountryclub.com
SUMMARY:Fort Ligonier Days
DESCRIPTION:
URL:https://ligoniercountryclub.com/event/fort-ligonier-days-5/
CATEGORIES:Holiday
END:VEVENT
BEGIN:VEVENT
DTSTART;TZID=America/New_York:20261011T093000
DTEND;TZID=America/New_York:20261011T150000
DTSTAMP:20260420T203553
CREATED:20260204T204325Z
LAST-MODIFIED:20260204T204325Z
UID:6567-1791711000-1791730800@ligoniercountryclub.com
SUMMARY:Kitchen Hours- Brunch Only
DESCRIPTION:Members and Guests
URL:https://ligoniercountryclub.com/event/kitchen-hours-brunch-only-83/
END:VEVENT
END:VCALENDAR