BEGIN:VCALENDAR
VERSION:2.0
PRODID:-//Ligonier Country Club - ECPv6.15.20//NONSGML v1.0//EN
CALSCALE:GREGORIAN
METHOD:PUBLISH
X-WR-CALNAME:Ligonier Country Club
X-ORIGINAL-URL:https://ligoniercountryclub.com
X-WR-CALDESC:Events for Ligonier Country Club
REFRESH-INTERVAL;VALUE=DURATION:PT1H
X-Robots-Tag:noindex
X-PUBLISHED-TTL:PT1H
BEGIN:VTIMEZONE
TZID:America/New_York
BEGIN:DAYLIGHT
TZOFFSETFROM:-0500
TZOFFSETTO:-0400
TZNAME:EDT
DTSTART:20250309T070000
END:DAYLIGHT
BEGIN:STANDARD
TZOFFSETFROM:-0400
TZOFFSETTO:-0500
TZNAME:EST
DTSTART:20251102T060000
END:STANDARD
BEGIN:DAYLIGHT
TZOFFSETFROM:-0500
TZOFFSETTO:-0400
TZNAME:EDT
DTSTART:20260308T070000
END:DAYLIGHT
BEGIN:STANDARD
TZOFFSETFROM:-0400
TZOFFSETTO:-0500
TZNAME:EST
DTSTART:20261101T060000
END:STANDARD
BEGIN:DAYLIGHT
TZOFFSETFROM:-0500
TZOFFSETTO:-0400
TZNAME:EDT
DTSTART:20270314T070000
END:DAYLIGHT
BEGIN:STANDARD
TZOFFSETFROM:-0400
TZOFFSETTO:-0500
TZNAME:EST
DTSTART:20271107T060000
END:STANDARD
END:VTIMEZONE
BEGIN:VEVENT
DTSTART;TZID=America/New_York:20260604T170000
DTEND;TZID=America/New_York:20260604T200000
DTSTAMP:20260420T202103
CREATED:20260126T191955Z
LAST-MODIFIED:20260317T171552Z
UID:6098-1780592400-1780603200@ligoniercountryclub.com
SUMMARY:BPW
DESCRIPTION:Members and Guests
URL:https://ligoniercountryclub.com/event/bpw-33/
CATEGORIES:Private Event
END:VEVENT
BEGIN:VEVENT
DTSTART;VALUE=DATE:20260605
DTEND;VALUE=DATE:20260606
DTSTAMP:20260420T202103
CREATED:20260204T204028Z
LAST-MODIFIED:20260204T204028Z
UID:6402-1780617600-1780703999@ligoniercountryclub.com
SUMMARY:No Dining
DESCRIPTION:Members and Guests
URL:https://ligoniercountryclub.com/event/no-dining-4/
END:VEVENT
BEGIN:VEVENT
DTSTART;TZID=America/New_York:20260605T090000
DTEND;TZID=America/New_York:20260605T210000
DTSTAMP:20260420T202103
CREATED:20260126T192140Z
LAST-MODIFIED:20260317T174448Z
UID:6131-1780650000-1780693200@ligoniercountryclub.com
SUMMARY:Men's Invitational
DESCRIPTION:Members and Guests
URL:https://ligoniercountryclub.com/event/mens-invitational-6/
CATEGORIES:Club Event
END:VEVENT
BEGIN:VEVENT
DTSTART;VALUE=DATE:20260606
DTEND;VALUE=DATE:20260607
DTSTAMP:20260420T202103
CREATED:20260204T204028Z
LAST-MODIFIED:20260204T204028Z
UID:6403-1780704000-1780790399@ligoniercountryclub.com
SUMMARY:No Dining
DESCRIPTION:Members and Guests
URL:https://ligoniercountryclub.com/event/no-dining-5/
END:VEVENT
BEGIN:VEVENT
DTSTART;TZID=America/New_York:20260606T090000
DTEND;TZID=America/New_York:20260606T210000
DTSTAMP:20260420T202103
CREATED:20260317T174628Z
LAST-MODIFIED:20260317T174628Z
UID:7168-1780736400-1780779600@ligoniercountryclub.com
SUMMARY:Men's Invitational
DESCRIPTION:Members and Guests
URL:https://ligoniercountryclub.com/event/mens-invitational-7/
CATEGORIES:Club Event
END:VEVENT
BEGIN:VEVENT
DTSTART;TZID=America/New_York:20260607T093000
DTEND;TZID=America/New_York:20260607T150000
DTSTAMP:20260420T202103
CREATED:20260204T204038Z
LAST-MODIFIED:20260204T204038Z
UID:6404-1780824600-1780844400@ligoniercountryclub.com
SUMMARY:Kitchen Hours- Brunch Only
DESCRIPTION:Members and Guests
URL:https://ligoniercountryclub.com/event/kitchen-hours-brunch-only-65/
END:VEVENT
BEGIN:VEVENT
DTSTART;TZID=America/New_York:20260607T150000
DTEND;TZID=America/New_York:20260607T170000
DTSTAMP:20260420T202103
CREATED:20260317T162143Z
LAST-MODIFIED:20260317T171402Z
UID:6815-1780844400-1780851600@ligoniercountryclub.com
SUMMARY:Bar Service
DESCRIPTION:Members and Guests
URL:https://ligoniercountryclub.com/event/bar-service-23/
CATEGORIES:Hours
END:VEVENT
BEGIN:VEVENT
DTSTART;VALUE=DATE:20260608
DTEND;VALUE=DATE:20260609
DTSTAMP:20260420T202103
CREATED:20260204T204038Z
LAST-MODIFIED:20260420T144124Z
UID:6406-1780876800-1780963199@ligoniercountryclub.com
SUMMARY:Clubhouse Closed
DESCRIPTION:Members and Guests
URL:https://ligoniercountryclub.com/event/closed-116/
END:VEVENT
BEGIN:VEVENT
DTSTART;TZID=America/New_York:20260608T080000
DTEND;TZID=America/New_York:20260608T140000
DTSTAMP:20260420T202103
CREATED:20260126T193508Z
LAST-MODIFIED:20260420T152632Z
UID:6244-1780905600-1780927200@ligoniercountryclub.com
SUMMARY:Islays Golf Outing
DESCRIPTION:
URL:https://ligoniercountryclub.com/event/islays-golf-outing/
CATEGORIES:Course,Golf Outing
END:VEVENT
BEGIN:VEVENT
DTSTART;TZID=America/New_York:20260609T113000
DTEND;TZID=America/New_York:20260609T200000
DTSTAMP:20260420T202103
CREATED:20260204T204038Z
LAST-MODIFIED:20260204T204038Z
UID:6407-1781004600-1781035200@ligoniercountryclub.com
SUMMARY:Kitchen Hours
DESCRIPTION:Members and Guests
URL:https://ligoniercountryclub.com/event/kitchen-hours-337/
END:VEVENT
BEGIN:VEVENT
DTSTART;TZID=America/New_York:20260610T113000
DTEND;TZID=America/New_York:20260610T203000
DTSTAMP:20260420T202103
CREATED:20260204T204038Z
LAST-MODIFIED:20260204T204038Z
UID:6408-1781091000-1781123400@ligoniercountryclub.com
SUMMARY:Kitchen Hours
DESCRIPTION:Members and Guests
URL:https://ligoniercountryclub.com/event/kitchen-hours-338/
END:VEVENT
BEGIN:VEVENT
DTSTART;TZID=America/New_York:20260610T190000
DTEND;TZID=America/New_York:20260610T191500
DTSTAMP:20260420T202103
CREATED:20260204T204045Z
LAST-MODIFIED:20260204T204045Z
UID:6409-1781118000-1781118900@ligoniercountryclub.com
SUMMARY:Centennial Drawing
DESCRIPTION:Members
URL:https://ligoniercountryclub.com/event/centennial-drawing-48/
END:VEVENT
BEGIN:VEVENT
DTSTART;TZID=America/New_York:20260611T113000
DTEND;TZID=America/New_York:20260611T203000
DTSTAMP:20260420T202103
CREATED:20260204T204045Z
LAST-MODIFIED:20260204T204045Z
UID:6410-1781177400-1781209800@ligoniercountryclub.com
SUMMARY:Kitchen Hours
DESCRIPTION:Members and Guests
URL:https://ligoniercountryclub.com/event/kitchen-hours-339/
END:VEVENT
BEGIN:VEVENT
DTSTART;TZID=America/New_York:20260611T173000
DTEND;TZID=America/New_York:20260611T210000
DTSTAMP:20260420T202103
CREATED:20260317T165528Z
LAST-MODIFIED:20260420T164441Z
UID:7024-1781199000-1781211600@ligoniercountryclub.com
SUMMARY:Bucks and Does Ballgame
DESCRIPTION:Members and Guests
URL:https://ligoniercountryclub.com/event/bucks-and-does-6/
CATEGORIES:Club Event
END:VEVENT
BEGIN:VEVENT
DTSTART;TZID=America/New_York:20260612T070000
DTEND;TZID=America/New_York:20260612T170000
DTSTAMP:20260420T202103
CREATED:20260126T193508Z
LAST-MODIFIED:20260420T153312Z
UID:6243-1781247600-1781283600@ligoniercountryclub.com
SUMMARY:Sewickley Library Golf Outing
DESCRIPTION:
URL:https://ligoniercountryclub.com/event/sewickley-library-golf-outing/
CATEGORIES:Golf Outing
END:VEVENT
BEGIN:VEVENT
DTSTART;TZID=America/New_York:20260612T093000
DTEND;TZID=America/New_York:20260612T150000
DTSTAMP:20260420T202103
CREATED:20260420T153358Z
LAST-MODIFIED:20260420T154924Z
UID:7356-1781256600-1781276400@ligoniercountryclub.com
SUMMARY:Shotgun
DESCRIPTION:
URL:https://ligoniercountryclub.com/event/shotgun-81/
CATEGORIES:Course
END:VEVENT
BEGIN:VEVENT
DTSTART;TZID=America/New_York:20260612T113000
DTEND;TZID=America/New_York:20260612T210000
DTSTAMP:20260420T202103
CREATED:20260204T204045Z
LAST-MODIFIED:20260204T204045Z
UID:6411-1781263800-1781298000@ligoniercountryclub.com
SUMMARY:Kitchen Hours
DESCRIPTION:Members and Guests
URL:https://ligoniercountryclub.com/event/kitchen-hours-340/
END:VEVENT
BEGIN:VEVENT
DTSTART;TZID=America/New_York:20260612T191500
DTEND;TZID=America/New_York:20260612T210000
DTSTAMP:20260420T202103
CREATED:20250326T234258Z
LAST-MODIFIED:20260420T160849Z
UID:4050-1781291700-1781298000@ligoniercountryclub.com
SUMMARY:Harrold Rehearsal
DESCRIPTION:Members and Guests
URL:https://ligoniercountryclub.com/event/harrold-reshersal/
CATEGORIES:Private Event
END:VEVENT
BEGIN:VEVENT
DTSTART;TZID=America/New_York:20260613T090000
DTEND;TZID=America/New_York:20260613T210000
DTSTAMP:20260420T202103
CREATED:20250326T234258Z
LAST-MODIFIED:20260420T153155Z
UID:4052-1781341200-1781384400@ligoniercountryclub.com
SUMMARY:Leuthold/Yuhas Wedding
DESCRIPTION:Members and Guests
URL:https://ligoniercountryclub.com/event/leuthold-wedding/
CATEGORIES:Private Event
END:VEVENT
BEGIN:VEVENT
DTSTART;TZID=America/New_York:20260613T113000
DTEND;TZID=America/New_York:20260613T210000
DTSTAMP:20260420T202103
CREATED:20260204T204045Z
LAST-MODIFIED:20260204T204045Z
UID:6412-1781350200-1781384400@ligoniercountryclub.com
SUMMARY:Kitchen Hours
DESCRIPTION:Members and Guests
URL:https://ligoniercountryclub.com/event/kitchen-hours-341/
END:VEVENT
BEGIN:VEVENT
DTSTART;TZID=America/New_York:20260614T093000
DTEND;TZID=America/New_York:20260614T150000
DTSTAMP:20260420T202103
CREATED:20260204T204045Z
LAST-MODIFIED:20260204T204045Z
UID:6413-1781429400-1781449200@ligoniercountryclub.com
SUMMARY:Kitchen Hours- Brunch Only
DESCRIPTION:Members and Guests
URL:https://ligoniercountryclub.com/event/kitchen-hours-brunch-only-66/
END:VEVENT
BEGIN:VEVENT
DTSTART;TZID=America/New_York:20260614T150000
DTEND;TZID=America/New_York:20260614T170000
DTSTAMP:20260420T202103
CREATED:20260317T162146Z
LAST-MODIFIED:20260317T171406Z
UID:6816-1781449200-1781456400@ligoniercountryclub.com
SUMMARY:Bar Service
DESCRIPTION:Members and Guests
URL:https://ligoniercountryclub.com/event/bar-service-24/
CATEGORIES:Hours
END:VEVENT
BEGIN:VEVENT
DTSTART;VALUE=DATE:20260615
DTEND;VALUE=DATE:20260616
DTSTAMP:20260420T202103
CREATED:20260204T204051Z
LAST-MODIFIED:20260420T144133Z
UID:6415-1781481600-1781567999@ligoniercountryclub.com
SUMMARY:Clubhouse Closed
DESCRIPTION:Members and Guests
URL:https://ligoniercountryclub.com/event/closed-117/
END:VEVENT
BEGIN:VEVENT
DTSTART;TZID=America/New_York:20260615T080000
DTEND;TZID=America/New_York:20260615T160000
DTSTAMP:20260420T202103
CREATED:20260420T153654Z
LAST-MODIFIED:20260420T153654Z
UID:7358-1781510400-1781539200@ligoniercountryclub.com
SUMMARY:Exchange Day
DESCRIPTION:Peninsula Club @ Indian Lake \nHidden Valley GC
URL:https://ligoniercountryclub.com/event/exchange-day-2/
CATEGORIES:Course
END:VEVENT
BEGIN:VEVENT
DTSTART;TZID=America/New_York:20260616T100000
DTEND;TZID=America/New_York:20260616T170000
DTSTAMP:20260420T202103
CREATED:20260317T165527Z
LAST-MODIFIED:20260317T171552Z
UID:7021-1781604000-1781629200@ligoniercountryclub.com
SUMMARY:Kings and Queens
DESCRIPTION:Members and Guests
URL:https://ligoniercountryclub.com/event/kings-and-queens-2/
CATEGORIES:Ladies' Event
END:VEVENT
BEGIN:VEVENT
DTSTART;TZID=America/New_York:20260616T113000
DTEND;TZID=America/New_York:20260616T200000
DTSTAMP:20260420T202103
CREATED:20260204T204051Z
LAST-MODIFIED:20260204T204051Z
UID:6416-1781609400-1781640000@ligoniercountryclub.com
SUMMARY:Kitchen Hours
DESCRIPTION:Members and Guests
URL:https://ligoniercountryclub.com/event/kitchen-hours-342/
END:VEVENT
BEGIN:VEVENT
DTSTART;TZID=America/New_York:20260617T113000
DTEND;TZID=America/New_York:20260617T203000
DTSTAMP:20260420T202103
CREATED:20260204T204051Z
LAST-MODIFIED:20260204T204051Z
UID:6417-1781695800-1781728200@ligoniercountryclub.com
SUMMARY:Kitchen Hours
DESCRIPTION:Members and Guests
URL:https://ligoniercountryclub.com/event/kitchen-hours-343/
END:VEVENT
BEGIN:VEVENT
DTSTART;TZID=America/New_York:20260617T190000
DTEND;TZID=America/New_York:20260617T191500
DTSTAMP:20260420T202103
CREATED:20260204T204051Z
LAST-MODIFIED:20260204T204051Z
UID:6418-1781722800-1781723700@ligoniercountryclub.com
SUMMARY:Centennial Drawing
DESCRIPTION:Members
URL:https://ligoniercountryclub.com/event/centennial-drawing-49/
END:VEVENT
BEGIN:VEVENT
DTSTART;TZID=America/New_York:20260618T100000
DTEND;TZID=America/New_York:20260618T170000
DTSTAMP:20260420T202103
CREATED:20260317T165512Z
LAST-MODIFIED:20260317T171550Z
UID:7020-1781776800-1781802000@ligoniercountryclub.com
SUMMARY:Western Play Day
DESCRIPTION:Members and Guests
URL:https://ligoniercountryclub.com/event/western-play-day-2/
CATEGORIES:Golf Course
END:VEVENT
BEGIN:VEVENT
DTSTART;TZID=America/New_York:20260618T113000
DTEND;TZID=America/New_York:20260618T203000
DTSTAMP:20260420T202103
CREATED:20260204T204057Z
LAST-MODIFIED:20260204T204057Z
UID:6419-1781782200-1781814600@ligoniercountryclub.com
SUMMARY:Kitchen Hours
DESCRIPTION:Members and Guests
URL:https://ligoniercountryclub.com/event/kitchen-hours-344/
END:VEVENT
END:VCALENDAR