BEGIN:VCALENDAR
VERSION:2.0
PRODID:-//Ligonier Country Club - ECPv6.15.20//NONSGML v1.0//EN
CALSCALE:GREGORIAN
METHOD:PUBLISH
X-ORIGINAL-URL:https://ligoniercountryclub.com
X-WR-CALDESC:Events for Ligonier Country Club
REFRESH-INTERVAL;VALUE=DURATION:PT1H
X-Robots-Tag:noindex
X-PUBLISHED-TTL:PT1H
BEGIN:VTIMEZONE
TZID:America/New_York
BEGIN:DAYLIGHT
TZOFFSETFROM:-0500
TZOFFSETTO:-0400
TZNAME:EDT
DTSTART:20250309T070000
END:DAYLIGHT
BEGIN:STANDARD
TZOFFSETFROM:-0400
TZOFFSETTO:-0500
TZNAME:EST
DTSTART:20251102T060000
END:STANDARD
BEGIN:DAYLIGHT
TZOFFSETFROM:-0500
TZOFFSETTO:-0400
TZNAME:EDT
DTSTART:20260308T070000
END:DAYLIGHT
BEGIN:STANDARD
TZOFFSETFROM:-0400
TZOFFSETTO:-0500
TZNAME:EST
DTSTART:20261101T060000
END:STANDARD
BEGIN:DAYLIGHT
TZOFFSETFROM:-0500
TZOFFSETTO:-0400
TZNAME:EDT
DTSTART:20270314T070000
END:DAYLIGHT
BEGIN:STANDARD
TZOFFSETFROM:-0400
TZOFFSETTO:-0500
TZNAME:EST
DTSTART:20271107T060000
END:STANDARD
END:VTIMEZONE
BEGIN:VEVENT
DTSTART;TZID=America/New_York:20260705T130000
DTEND;TZID=America/New_York:20260705T160000
DTSTAMP:20260421T081128
CREATED:20260317T165457Z
LAST-MODIFIED:20260317T171548Z
UID:7015-1783256400-1783267200@ligoniercountryclub.com
SUMMARY:Blystone Grad Party
DESCRIPTION:Members and Guests
URL:https://ligoniercountryclub.com/event/blystone-grad-party-2/
CATEGORIES:Private Event
END:VEVENT
BEGIN:VEVENT
DTSTART;TZID=America/New_York:20260705T150000
DTEND;TZID=America/New_York:20260705T170000
DTSTAMP:20260421T081128
CREATED:20260317T162146Z
LAST-MODIFIED:20260317T171406Z
UID:6819-1783263600-1783270800@ligoniercountryclub.com
SUMMARY:Bar Service
DESCRIPTION:Members and Guests
URL:https://ligoniercountryclub.com/event/bar-service-27/
CATEGORIES:Hours
END:VEVENT
BEGIN:VEVENT
DTSTART;VALUE=DATE:20260706
DTEND;VALUE=DATE:20260707
DTSTAMP:20260421T081128
CREATED:20260204T204114Z
LAST-MODIFIED:20260420T144228Z
UID:6444-1783296000-1783382399@ligoniercountryclub.com
SUMMARY:Clubhouse Closed
DESCRIPTION:Members and Guests
URL:https://ligoniercountryclub.com/event/closed-120/
END:VEVENT
BEGIN:VEVENT
DTSTART;TZID=America/New_York:20260706T080000
DTEND;TZID=America/New_York:20260706T160000
DTSTAMP:20260421T081128
CREATED:20260420T161209Z
LAST-MODIFIED:20260420T161324Z
UID:7379-1783324800-1783353600@ligoniercountryclub.com
SUMMARY:Exchange Day
DESCRIPTION:Latrobe Elks \nChampion Lakes
URL:https://ligoniercountryclub.com/event/exchange-day-3/
CATEGORIES:Course
END:VEVENT
BEGIN:VEVENT
DTSTART;TZID=America/New_York:20260707T113000
DTEND;TZID=America/New_York:20260707T200000
DTSTAMP:20260421T081128
CREATED:20260204T204115Z
LAST-MODIFIED:20260204T204115Z
UID:6445-1783423800-1783454400@ligoniercountryclub.com
SUMMARY:Kitchen Hours
DESCRIPTION:Members and Guests
URL:https://ligoniercountryclub.com/event/kitchen-hours-356/
END:VEVENT
BEGIN:VEVENT
DTSTART;TZID=America/New_York:20260708T113000
DTEND;TZID=America/New_York:20260708T203000
DTSTAMP:20260421T081128
CREATED:20260204T204115Z
LAST-MODIFIED:20260204T204115Z
UID:6446-1783510200-1783542600@ligoniercountryclub.com
SUMMARY:Kitchen Hours
DESCRIPTION:Members and Guests
URL:https://ligoniercountryclub.com/event/kitchen-hours-357/
END:VEVENT
BEGIN:VEVENT
DTSTART;TZID=America/New_York:20260708T190000
DTEND;TZID=America/New_York:20260708T191500
DTSTAMP:20260421T081128
CREATED:20260204T204115Z
LAST-MODIFIED:20260204T204115Z
UID:6447-1783537200-1783538100@ligoniercountryclub.com
SUMMARY:Centennial Drawing
DESCRIPTION:Members
URL:https://ligoniercountryclub.com/event/centennial-drawing-52/
END:VEVENT
BEGIN:VEVENT
DTSTART;TZID=America/New_York:20260709T080000
DTEND;TZID=America/New_York:20260709T120000
DTSTAMP:20260421T081128
CREATED:20260126T193508Z
LAST-MODIFIED:20260420T163128Z
UID:6240-1783584000-1783598400@ligoniercountryclub.com
SUMMARY:PA Open Qualifier
DESCRIPTION:
URL:https://ligoniercountryclub.com/event/pa-open-qualifier/
CATEGORIES:Golf Outing
END:VEVENT
BEGIN:VEVENT
DTSTART;TZID=America/New_York:20260709T113000
DTEND;TZID=America/New_York:20260709T203000
DTSTAMP:20260421T081128
CREATED:20260204T204115Z
LAST-MODIFIED:20260204T204115Z
UID:6448-1783596600-1783629000@ligoniercountryclub.com
SUMMARY:Kitchen Hours
DESCRIPTION:Members and Guests
URL:https://ligoniercountryclub.com/event/kitchen-hours-358/
END:VEVENT
BEGIN:VEVENT
DTSTART;TZID=America/New_York:20260710T090000
DTEND;TZID=America/New_York:20260710T190000
DTSTAMP:20260421T081128
CREATED:20260126T193453Z
LAST-MODIFIED:20260420T162817Z
UID:6239-1783674000-1783710000@ligoniercountryclub.com
SUMMARY:Ligonier YMCA Golf Outing
DESCRIPTION:
URL:https://ligoniercountryclub.com/event/ligonier-ymca-golf-outing/
CATEGORIES:Golf Outing
END:VEVENT
BEGIN:VEVENT
DTSTART;TZID=America/New_York:20260710T113000
DTEND;TZID=America/New_York:20260710T210000
DTSTAMP:20260421T081128
CREATED:20260204T204116Z
LAST-MODIFIED:20260204T204116Z
UID:6449-1783683000-1783717200@ligoniercountryclub.com
SUMMARY:Kitchen Hours
DESCRIPTION:Members and Guests
URL:https://ligoniercountryclub.com/event/kitchen-hours-359/
END:VEVENT
BEGIN:VEVENT
DTSTART;TZID=America/New_York:20260710T120000
DTEND;TZID=America/New_York:20260710T170000
DTSTAMP:20260421T081128
CREATED:20260420T162854Z
LAST-MODIFIED:20260420T162854Z
UID:7383-1783684800-1783702800@ligoniercountryclub.com
SUMMARY:Shotgun
DESCRIPTION:
URL:https://ligoniercountryclub.com/event/shotgun-85/
CATEGORIES:Course
END:VEVENT
BEGIN:VEVENT
DTSTART;TZID=America/New_York:20260711T113000
DTEND;TZID=America/New_York:20260711T210000
DTSTAMP:20260421T081128
CREATED:20260204T204116Z
LAST-MODIFIED:20260204T204116Z
UID:6450-1783769400-1783803600@ligoniercountryclub.com
SUMMARY:Kitchen Hours
DESCRIPTION:Members and Guests
URL:https://ligoniercountryclub.com/event/kitchen-hours-360/
END:VEVENT
BEGIN:VEVENT
DTSTART;TZID=America/New_York:20260712T093000
DTEND;TZID=America/New_York:20260712T150000
DTSTAMP:20260421T081128
CREATED:20260204T204116Z
LAST-MODIFIED:20260204T204116Z
UID:6451-1783848600-1783868400@ligoniercountryclub.com
SUMMARY:Kitchen Hours- Brunch Only
DESCRIPTION:Members and Guests
URL:https://ligoniercountryclub.com/event/kitchen-hours-brunch-only-70/
END:VEVENT
BEGIN:VEVENT
DTSTART;TZID=America/New_York:20260712T150000
DTEND;TZID=America/New_York:20260712T170000
DTSTAMP:20260421T081128
CREATED:20260317T162146Z
LAST-MODIFIED:20260317T171406Z
UID:6820-1783868400-1783875600@ligoniercountryclub.com
SUMMARY:Bar Service
DESCRIPTION:Members and Guests
URL:https://ligoniercountryclub.com/event/bar-service-28/
CATEGORIES:Hours
END:VEVENT
BEGIN:VEVENT
DTSTART;VALUE=DATE:20260713
DTEND;VALUE=DATE:20260714
DTSTAMP:20260421T081128
CREATED:20260204T204116Z
LAST-MODIFIED:20260420T144237Z
UID:6453-1783900800-1783987199@ligoniercountryclub.com
SUMMARY:Clubhouse Closed
DESCRIPTION:Members and Guests
URL:https://ligoniercountryclub.com/event/closed-121/
END:VEVENT
BEGIN:VEVENT
DTSTART;TZID=America/New_York:20260713T080000
DTEND;TZID=America/New_York:20260713T160000
DTSTAMP:20260421T081128
CREATED:20260420T163334Z
LAST-MODIFIED:20260420T163334Z
UID:7387-1783929600-1783958400@ligoniercountryclub.com
SUMMARY:Exchange Day
DESCRIPTION:Glengarry Golf Links \nNorvelt GC
URL:https://ligoniercountryclub.com/event/exchange-day-4/
CATEGORIES:Course
END:VEVENT
BEGIN:VEVENT
DTSTART;TZID=America/New_York:20260714T100000
DTEND;TZID=America/New_York:20260714T170000
DTSTAMP:20260421T081128
CREATED:20260317T165456Z
LAST-MODIFIED:20260420T163908Z
UID:7011-1784023200-1784048400@ligoniercountryclub.com
SUMMARY:Queen Bee 1
DESCRIPTION:Members and Guests
URL:https://ligoniercountryclub.com/event/queen-bee-3/
CATEGORIES:Ladies' Event
END:VEVENT
BEGIN:VEVENT
DTSTART;TZID=America/New_York:20260714T113000
DTEND;TZID=America/New_York:20260714T200000
DTSTAMP:20260421T081128
CREATED:20260204T204128Z
LAST-MODIFIED:20260204T204128Z
UID:6454-1784028600-1784059200@ligoniercountryclub.com
SUMMARY:Kitchen Hours
DESCRIPTION:Members and Guests
URL:https://ligoniercountryclub.com/event/kitchen-hours-361/
END:VEVENT
BEGIN:VEVENT
DTSTART;TZID=America/New_York:20260715T113000
DTEND;TZID=America/New_York:20260715T203000
DTSTAMP:20260421T081128
CREATED:20260204T204128Z
LAST-MODIFIED:20260204T204128Z
UID:6455-1784115000-1784147400@ligoniercountryclub.com
SUMMARY:Kitchen Hours
DESCRIPTION:Members and Guests
URL:https://ligoniercountryclub.com/event/kitchen-hours-362/
END:VEVENT
BEGIN:VEVENT
DTSTART;TZID=America/New_York:20260715T183000
DTEND;TZID=America/New_York:20260715T210000
DTSTAMP:20260421T081128
CREATED:20260126T193453Z
LAST-MODIFIED:20260420T163628Z
UID:6237-1784140200-1784149200@ligoniercountryclub.com
SUMMARY:Rural Water BBQ
DESCRIPTION:
URL:https://ligoniercountryclub.com/event/pa-rural-water-2/
CATEGORIES:Private Event
END:VEVENT
BEGIN:VEVENT
DTSTART;TZID=America/New_York:20260715T190000
DTEND;TZID=America/New_York:20260715T191500
DTSTAMP:20260421T081128
CREATED:20260204T204128Z
LAST-MODIFIED:20260204T204128Z
UID:6456-1784142000-1784142900@ligoniercountryclub.com
SUMMARY:Centennial Drawing
DESCRIPTION:Members
URL:https://ligoniercountryclub.com/event/centennial-drawing-53/
END:VEVENT
BEGIN:VEVENT
DTSTART;TZID=America/New_York:20260716T063000
DTEND;TZID=America/New_York:20260716T170000
DTSTAMP:20260421T081128
CREATED:20260420T163752Z
LAST-MODIFIED:20260420T163752Z
UID:7390-1784183400-1784221200@ligoniercountryclub.com
SUMMARY:Rural Water Outing
DESCRIPTION:
URL:https://ligoniercountryclub.com/event/rural-water-outing-2/
CATEGORIES:Golf Outing
END:VEVENT
BEGIN:VEVENT
DTSTART;TZID=America/New_York:20260716T090000
DTEND;TZID=America/New_York:20260716T140000
DTSTAMP:20260421T081128
CREATED:20260420T163842Z
LAST-MODIFIED:20260420T163842Z
UID:7392-1784192400-1784210400@ligoniercountryclub.com
SUMMARY:Shotgun
DESCRIPTION:
URL:https://ligoniercountryclub.com/event/shotgun-86/
CATEGORIES:Course
END:VEVENT
BEGIN:VEVENT
DTSTART;TZID=America/New_York:20260716T113000
DTEND;TZID=America/New_York:20260716T203000
DTSTAMP:20260421T081128
CREATED:20260204T204128Z
LAST-MODIFIED:20260204T204128Z
UID:6457-1784201400-1784233800@ligoniercountryclub.com
SUMMARY:Kitchen Hours
DESCRIPTION:Members and Guests
URL:https://ligoniercountryclub.com/event/kitchen-hours-363/
END:VEVENT
BEGIN:VEVENT
DTSTART;TZID=America/New_York:20260717T113000
DTEND;TZID=America/New_York:20260717T210000
DTSTAMP:20260421T081128
CREATED:20260204T204128Z
LAST-MODIFIED:20260204T204128Z
UID:6458-1784287800-1784322000@ligoniercountryclub.com
SUMMARY:Kitchen Hours
DESCRIPTION:Members and Guests
URL:https://ligoniercountryclub.com/event/kitchen-hours-364/
END:VEVENT
BEGIN:VEVENT
DTSTART;TZID=America/New_York:20260717T170000
DTEND;TZID=America/New_York:20260717T200000
DTSTAMP:20260421T081128
CREATED:20260126T192055Z
LAST-MODIFIED:20260317T171546Z
UID:6119-1784307600-1784318400@ligoniercountryclub.com
SUMMARY:Joe Golden performs
DESCRIPTION:Members and Guests
URL:https://ligoniercountryclub.com/event/joe-golden-performs-16/
CATEGORIES:Entertainment
END:VEVENT
BEGIN:VEVENT
DTSTART;TZID=America/New_York:20260717T170000
DTEND;TZID=America/New_York:20260717T210000
DTSTAMP:20260421T081128
CREATED:20260420T164213Z
LAST-MODIFIED:20260420T164213Z
UID:7395-1784307600-1784322000@ligoniercountryclub.com
SUMMARY:Janney Montgomery
DESCRIPTION:
URL:https://ligoniercountryclub.com/event/janney-montgomery/
CATEGORIES:Private Event
END:VEVENT
BEGIN:VEVENT
DTSTART;TZID=America/New_York:20260718T113000
DTEND;TZID=America/New_York:20260718T210000
DTSTAMP:20260421T081128
CREATED:20260204T204131Z
LAST-MODIFIED:20260204T204131Z
UID:6459-1784374200-1784408400@ligoniercountryclub.com
SUMMARY:Kitchen Hours
DESCRIPTION:Members and Guests
URL:https://ligoniercountryclub.com/event/kitchen-hours-365/
END:VEVENT
BEGIN:VEVENT
DTSTART;TZID=America/New_York:20260718T170000
DTEND;TZID=America/New_York:20260718T200000
DTSTAMP:20260421T081128
CREATED:20260126T192010Z
LAST-MODIFIED:20260126T193223Z
UID:6104-1784394000-1784404800@ligoniercountryclub.com
SUMMARY:Class of 1981 Reunion
DESCRIPTION:
URL:https://ligoniercountryclub.com/event/class-of-1981-reunion-2/
CATEGORIES:Private Event
END:VEVENT
END:VCALENDAR